BEGIN:VCALENDAR
VERSION:2.0
PRODID:-//Saltviks Camping - ECPv6.15.14//NONSGML v1.0//EN
CALSCALE:GREGORIAN
METHOD:PUBLISH
X-ORIGINAL-URL:https://saltvikscamping.se
X-WR-CALDESC:Händelser för Saltviks Camping
REFRESH-INTERVAL;VALUE=DURATION:PT1H
X-Robots-Tag:noindex
X-PUBLISHED-TTL:PT1H
BEGIN:VTIMEZONE
TZID:Europe/Stockholm
BEGIN:DAYLIGHT
TZOFFSETFROM:+0100
TZOFFSETTO:+0200
TZNAME:CEST
DTSTART:20250330T010000
END:DAYLIGHT
BEGIN:STANDARD
TZOFFSETFROM:+0200
TZOFFSETTO:+0100
TZNAME:CET
DTSTART:20251026T010000
END:STANDARD
BEGIN:DAYLIGHT
TZOFFSETFROM:+0100
TZOFFSETTO:+0200
TZNAME:CEST
DTSTART:20260329T010000
END:DAYLIGHT
BEGIN:STANDARD
TZOFFSETFROM:+0200
TZOFFSETTO:+0100
TZNAME:CET
DTSTART:20261025T010000
END:STANDARD
BEGIN:DAYLIGHT
TZOFFSETFROM:+0100
TZOFFSETTO:+0200
TZNAME:CEST
DTSTART:20270328T010000
END:DAYLIGHT
BEGIN:STANDARD
TZOFFSETFROM:+0200
TZOFFSETTO:+0100
TZNAME:CET
DTSTART:20271031T010000
END:STANDARD
END:VTIMEZONE
BEGIN:VEVENT
DTSTART;TZID=Europe/Stockholm:20260711T100000
DTEND;TZID=Europe/Stockholm:20260711T120000
DTSTAMP:20260425T204943
CREATED:20260317T095001Z
LAST-MODIFIED:20260317T095001Z
UID:8807-1783764000-1783771200@saltvikscamping.se
SUMMARY:Magi & Fantasi
DESCRIPTION:
URL:https://saltvikscamping.se/event/magi-fantasi/
LOCATION:Stranden
CATEGORIES:Aktiviteter för barn,Familjeaktivitet
ATTACH;FMTTYPE=image/png:https://saltvikscamping.se/wp-content/uploads/2026/03/vykortmagi-1-552fb3e0.png
END:VEVENT
BEGIN:VEVENT
DTSTART;TZID=Europe/Stockholm:20260718T100000
DTEND;TZID=Europe/Stockholm:20260718T120000
DTSTAMP:20260425T204943
CREATED:20260317T095311Z
LAST-MODIFIED:20260317T095311Z
UID:8812-1784368800-1784376000@saltvikscamping.se
SUMMARY:Magi & Fantasi
DESCRIPTION:
URL:https://saltvikscamping.se/event/magi-fantasi-2/
LOCATION:Stranden
CATEGORIES:Aktiviteter för barn,Familjeaktivitet
ATTACH;FMTTYPE=image/png:https://saltvikscamping.se/wp-content/uploads/2026/03/vykortmagi-1-552fb3e0.png
END:VEVENT
BEGIN:VEVENT
DTSTART;TZID=Europe/Stockholm:20260725T100000
DTEND;TZID=Europe/Stockholm:20260725T120000
DTSTAMP:20260425T204943
CREATED:20260317T095513Z
LAST-MODIFIED:20260317T095513Z
UID:8814-1784973600-1784980800@saltvikscamping.se
SUMMARY:Magi & Fantasi
DESCRIPTION:[vc_row][vc_column width=”1/1″][vc_column_text uncode_shortcode_id=”148196″]Välkommen till det mest bubblande äventyret på hela sommaren! Här kombineras barnens favoritaktiviteter i ett oförglömligt paket: Barndisco\, roliga discolekar och ett härligt skumparty. Kan det bli roligare? \nTa gärna med ombyta eller badkläder\, de kan bli blött  \nLäs mer om aktiviteten på Campingkul.se[/vc_column_text][/vc_column][/vc_row]
URL:https://saltvikscamping.se/event/magi-fantasi-3/
LOCATION:Stranden
CATEGORIES:Aktiviteter för barn,Familjeaktivitet
ATTACH;FMTTYPE=image/png:https://saltvikscamping.se/wp-content/uploads/2026/03/vykortmagi-1-552fb3e0.png
END:VEVENT
BEGIN:VEVENT
DTSTART;TZID=Europe/Stockholm:20260806T100000
DTEND;TZID=Europe/Stockholm:20260806T120000
DTSTAMP:20260425T204943
CREATED:20260317T100648Z
LAST-MODIFIED:20260317T100648Z
UID:8823-1786010400-1786017600@saltvikscamping.se
SUMMARY:Magi & Fantasi
DESCRIPTION:[vc_row][vc_column width=”1/1″][vc_column_text uncode_shortcode_id=”350876″]Det blir föreställning\, cirkusskola\, bubbelshow och i olika fantasifulla aktiviteter får barnen utforska hur långt deras egen kreativitet kan räcka. \nMaja Magi är en varm och färgstark karaktär som reser runt till alla campingar för att sprida magi – både genom riktigt trollerishow och genom den speciella stämning hon skapar omkring sig. \nUnder dessa härliga timmar får barnen utveckla sina förmågor i både fantasi och magi genom cirkus- och trolleri\, pyssel\, samarbete och skapande. \nLäs mer om aktiviteten på Campingkul.se[/vc_column_text][/vc_column][/vc_row]
URL:https://saltvikscamping.se/event/magi-fantasi-4/
LOCATION:Stranden
CATEGORIES:Aktiviteter för barn,Familjeaktivitet,Livemusik
ATTACH;FMTTYPE=image/png:https://saltvikscamping.se/wp-content/uploads/2026/03/vykortmagi-1-552fb3e0.png
END:VEVENT
END:VCALENDAR